BEGIN:VCALENDAR
VERSION:2.0
PRODID:-//audience FiRST! - ECPv6.15.17.1//NONSGML v1.0//EN
CALSCALE:GREGORIAN
METHOD:PUBLISH
X-ORIGINAL-URL:https://audience-first.de
X-WR-CALDESC:Veranstaltungen für audience FiRST!
REFRESH-INTERVAL;VALUE=DURATION:PT1H
X-Robots-Tag:noindex
X-PUBLISHED-TTL:PT1H
BEGIN:VTIMEZONE
TZID:Europe/Berlin
BEGIN:DAYLIGHT
TZOFFSETFROM:+0100
TZOFFSETTO:+0200
TZNAME:CEST
DTSTART:20230326T010000
END:DAYLIGHT
BEGIN:STANDARD
TZOFFSETFROM:+0200
TZOFFSETTO:+0100
TZNAME:CET
DTSTART:20231029T010000
END:STANDARD
BEGIN:DAYLIGHT
TZOFFSETFROM:+0100
TZOFFSETTO:+0200
TZNAME:CEST
DTSTART:20240331T010000
END:DAYLIGHT
BEGIN:STANDARD
TZOFFSETFROM:+0200
TZOFFSETTO:+0100
TZNAME:CET
DTSTART:20241027T010000
END:STANDARD
BEGIN:DAYLIGHT
TZOFFSETFROM:+0100
TZOFFSETTO:+0200
TZNAME:CEST
DTSTART:20250330T010000
END:DAYLIGHT
BEGIN:STANDARD
TZOFFSETFROM:+0200
TZOFFSETTO:+0100
TZNAME:CET
DTSTART:20251026T010000
END:STANDARD
END:VTIMEZONE
BEGIN:VEVENT
DTSTART;VALUE=DATE:20240925
DTEND;VALUE=DATE:20240929
DTSTAMP:20260421T120614
CREATED:20240725T131716Z
LAST-MODIFIED:20240730T132423Z
UID:1830-1727222400-1727567999@audience-first.de
SUMMARY:76. DGU-Kongress
DESCRIPTION:
URL:https://audience-first.de/event/76-dgu-kongress/
LOCATION:Congress Center Leipzig\, Seehausener Allee 1\, Leipzig\, 04356\, Deutschland
CATEGORIES:Konferenzen
ORGANIZER;CN="INTERPLAN":MAILTO:info@interplan.de
END:VEVENT
END:VCALENDAR